BEGIN:VCALENDAR
PRODID:-//github.com/ical-org/ical.net//NONSGML ical.net 4.0//EN
VERSION:2.0
BEGIN:VEVENT
CREATED:20260420T031859Z
DESCRIPTION:This is a reminder to submit a session to Lead Innovation Day 
 - Leadership Edition.\nSet the alarm/notification to ensure you don't mis
 s it!\nSessions can be submitted at https://sessionize.com/lead-innovatio
 n-day-leadership-edition/
DTEND:20260430T215900Z
DTSTAMP:20260420T031859Z
DTSTART:20260430T215900Z
LAST-MODIFIED:20260420T031859Z
LOCATION:https://sessionize.com/lead-innovation-day-leadership-edition
SEQUENCE:0
SUMMARY:Lead Innovation Day - Leadership Edition: deadline to submit a ses
 sion
UID:cf2eb393-92fa-4939-8f53-dc04c6b4cf09
BEGIN:VALARM
ACTION:DISPLAY
DESCRIPTION:Reminder
SUMMARY:Lead Innovation Day - Leadership Edition: deadline to submit a ses
 sion
TRIGGER:-P2D
END:VALARM
END:VEVENT
END:VCALENDAR
