BEGIN:VCALENDAR
PRODID:-//github.com/ical-org/ical.net//NONSGML ical.net 4.0//EN
VERSION:2.0
BEGIN:VEVENT
CREATED:20260424T165707Z
DESCRIPTION:This is a reminder to submit a session to M365 Community Days 
 NYC.\nSet the alarm/notification to ensure you don't miss it!\nSessions c
 an be submitted at https://sessionize.com/m365-community-days-nyc/
DTEND:20260516T035900Z
DTSTAMP:20260424T165707Z
DTSTART:20260516T035900Z
LAST-MODIFIED:20260424T165707Z
LOCATION:https://sessionize.com/m365-community-days-nyc
SEQUENCE:0
SUMMARY:M365 Community Days NYC: deadline to submit a session
UID:44e55d7a-e8a9-4512-94c0-f52f8a2a50b4
BEGIN:VALARM
ACTION:DISPLAY
DESCRIPTION:Reminder
SUMMARY:M365 Community Days NYC: deadline to submit a session
TRIGGER:-P2D
END:VALARM
END:VEVENT
END:VCALENDAR
