BEGIN:VCALENDAR
PRODID:-//github.com/ical-org/ical.net//NONSGML ical.net 4.0//EN
VERSION:2.0
BEGIN:VEVENT
CREATED:20260419T125641Z
DESCRIPTION:This is a reminder to submit a session to Malware Village DEFC
 ON34.\nSet the alarm/notification to ensure you don't miss it!\nSessions 
 can be submitted at https://sessionize.com/malware-village-defcon34/
DTEND:20260531T143000Z
DTSTAMP:20260419T125641Z
DTSTART:20260531T143000Z
LAST-MODIFIED:20260419T125641Z
LOCATION:https://sessionize.com/malware-village-defcon34
SEQUENCE:0
SUMMARY:Malware Village DEFCON34: deadline to submit a session
UID:e4fbc74c-c3a5-43f6-b460-1da6e9f5e56c
BEGIN:VALARM
ACTION:DISPLAY
DESCRIPTION:Reminder
SUMMARY:Malware Village DEFCON34: deadline to submit a session
TRIGGER:-P2D
END:VALARM
END:VEVENT
END:VCALENDAR
