BEGIN:VCALENDAR
PRODID:-//github.com/ical-org/ical.net//NONSGML ical.net 4.0//EN
VERSION:2.0
BEGIN:VEVENT
CREATED:20260424T175940Z
DESCRIPTION:This is a reminder to submit a session to Matera Tech.\nSet th
 e alarm/notification to ensure you don't miss it!\nSessions can be submit
 ted at https://sessionize.com/materatech/
DTEND:20261231T225900Z
DTSTAMP:20260424T175940Z
DTSTART:20261231T225900Z
LAST-MODIFIED:20260424T175940Z
LOCATION:https://sessionize.com/materatech
SEQUENCE:0
SUMMARY:Matera Tech: deadline to submit a session
UID:5a6019e5-e15d-40b3-b685-5b37e52b2b91
BEGIN:VALARM
ACTION:DISPLAY
DESCRIPTION:Reminder
SUMMARY:Matera Tech: deadline to submit a session
TRIGGER:-P2D
END:VALARM
END:VEVENT
END:VCALENDAR
