BEGIN:VCALENDAR
PRODID:-//github.com/ical-org/ical.net//NONSGML ical.net 4.0//EN
VERSION:2.0
BEGIN:VEVENT
CREATED:20260422T083540Z
DESCRIPTION:This is a reminder to submit a session to MCP Dev Summit Nairo
 bi 2026.\nSet the alarm/notification to ensure you don't miss it!\nSessio
 ns can be submitted at https://sessionize.com/mcp-dev-summit-nairobi-2026
 /
DTEND:20260831T205900Z
DTSTAMP:20260422T083540Z
DTSTART:20260831T205900Z
LAST-MODIFIED:20260422T083540Z
LOCATION:https://sessionize.com/mcp-dev-summit-nairobi-2026
SEQUENCE:0
SUMMARY:MCP Dev Summit Nairobi 2026: deadline to submit a session
UID:1cbdc976-c4c7-4771-8c53-b67525965a7b
BEGIN:VALARM
ACTION:DISPLAY
DESCRIPTION:Reminder
SUMMARY:MCP Dev Summit Nairobi 2026: deadline to submit a session
TRIGGER:-P2D
END:VALARM
END:VEVENT
END:VCALENDAR
