BEGIN:VCALENDAR
PRODID:-//github.com/ical-org/ical.net//NONSGML ical.net 4.0//EN
VERSION:2.0
BEGIN:VEVENT
CREATED:20260422T083523Z
DESCRIPTION:This is a reminder to submit a session to MCP Dev Summit Seoul
  2026 .\nSet the alarm/notification to ensure you don't miss it!\nSession
 s can be submitted at https://sessionize.com/mcp-dev-summit-seoul-2026/
DTEND:20260501T145900Z
DTSTAMP:20260422T083523Z
DTSTART:20260501T145900Z
LAST-MODIFIED:20260422T083523Z
LOCATION:https://sessionize.com/mcp-dev-summit-seoul-2026
SEQUENCE:0
SUMMARY:MCP Dev Summit Seoul 2026 : deadline to submit a session
UID:554a38e3-db5d-4e10-95dc-78b3f8f6c146
BEGIN:VALARM
ACTION:DISPLAY
DESCRIPTION:Reminder
SUMMARY:MCP Dev Summit Seoul 2026 : deadline to submit a session
TRIGGER:-P2D
END:VALARM
END:VEVENT
END:VCALENDAR
