BEGIN:VCALENDAR
PRODID:-//github.com/ical-org/ical.net//NONSGML ical.net 4.0//EN
VERSION:2.0
BEGIN:VEVENT
CREATED:20260425T153752Z
DESCRIPTION:This is a reminder to submit a session to MCP Dev Summit Shang
 hai 2026.\nSet the alarm/notification to ensure you don't miss it!\nSessi
 ons can be submitted at https://sessionize.com/mcp-dev-summit-shanghai-20
 26/
DTEND:20260529T155900Z
DTSTAMP:20260425T153752Z
DTSTART:20260529T155900Z
LAST-MODIFIED:20260425T153752Z
LOCATION:https://sessionize.com/mcp-dev-summit-shanghai-2026
SEQUENCE:0
SUMMARY:MCP Dev Summit Shanghai 2026: deadline to submit a session
UID:c63be9f6-2d4e-4cb1-8365-80b19ba41149
BEGIN:VALARM
ACTION:DISPLAY
DESCRIPTION:Reminder
SUMMARY:MCP Dev Summit Shanghai 2026: deadline to submit a session
TRIGGER:-P2D
END:VALARM
END:VEVENT
END:VCALENDAR
