BEGIN:VCALENDAR
PRODID:-//github.com/ical-org/ical.net//NONSGML ical.net 4.0//EN
VERSION:2.0
BEGIN:VEVENT
CREATED:20260422T085545Z
DESCRIPTION:This is a reminder to submit a session to MCP Dev Summit Tokyo
  2026.\nSet the alarm/notification to ensure you don't miss it!\nSessions
  can be submitted at https://sessionize.com/mcp-dev-summit-tokyo-2026/
DTEND:20260529T145900Z
DTSTAMP:20260422T085545Z
DTSTART:20260529T145900Z
LAST-MODIFIED:20260422T085545Z
LOCATION:https://sessionize.com/mcp-dev-summit-tokyo-2026
SEQUENCE:0
SUMMARY:MCP Dev Summit Tokyo 2026: deadline to submit a session
UID:a25f4144-beba-4ffb-9721-74fbf33cb515
BEGIN:VALARM
ACTION:DISPLAY
DESCRIPTION:Reminder
SUMMARY:MCP Dev Summit Tokyo 2026: deadline to submit a session
TRIGGER:-P2D
END:VALARM
END:VEVENT
END:VCALENDAR
