BEGIN:VCALENDAR
PRODID:-//github.com/ical-org/ical.net//NONSGML ical.net 4.0//EN
VERSION:2.0
BEGIN:VEVENT
CREATED:20260422T085903Z
DESCRIPTION:This is a reminder to submit a session to MCP Dev Summit Toron
 to 2026.\nSet the alarm/notification to ensure you don't miss it!\nSessio
 ns can be submitted at https://sessionize.com/mcp-dev-summit-toronto-2026
 /
DTEND:20260715T025900Z
DTSTAMP:20260422T085903Z
DTSTART:20260715T025900Z
LAST-MODIFIED:20260422T085903Z
LOCATION:https://sessionize.com/mcp-dev-summit-toronto-2026
SEQUENCE:0
SUMMARY:MCP Dev Summit Toronto 2026: deadline to submit a session
UID:be4f4d62-2b91-4b52-b155-536ccfd7305a
BEGIN:VALARM
ACTION:DISPLAY
DESCRIPTION:Reminder
SUMMARY:MCP Dev Summit Toronto 2026: deadline to submit a session
TRIGGER:-P2D
END:VALARM
END:VEVENT
END:VCALENDAR
