BEGIN:VCALENDAR
PRODID:-//github.com/ical-org/ical.net//NONSGML ical.net 4.0//EN
VERSION:2.0
BEGIN:VEVENT
CREATED:20260420T032012Z
DESCRIPTION:This is a reminder to submit a session to MCT DACH Community M
 eetup.\nSet the alarm/notification to ensure you don't miss it!\nSessions
  can be submitted at https://sessionize.com/mct-dach-community-meetup-202
 6/
DTEND:20260531T215900Z
DTSTAMP:20260420T032012Z
DTSTART:20260531T215900Z
LAST-MODIFIED:20260420T032012Z
LOCATION:https://sessionize.com/mct-dach-community-meetup-2026
SEQUENCE:0
SUMMARY:MCT DACH Community Meetup: deadline to submit a session
UID:5cbb41e1-5e03-4724-8979-0d8300b18a9f
BEGIN:VALARM
ACTION:DISPLAY
DESCRIPTION:Reminder
SUMMARY:MCT DACH Community Meetup: deadline to submit a session
TRIGGER:-P2D
END:VALARM
END:VEVENT
END:VCALENDAR
