BEGIN:VCALENDAR
PRODID:-//github.com/ical-org/ical.net//NONSGML ical.net 4.0//EN
VERSION:2.0
BEGIN:VEVENT
CREATED:20260423T155035Z
DESCRIPTION:This is a reminder to submit a session to MCT Tech Talks.\nSet
  the alarm/notification to ensure you don't miss it!\nSessions can be sub
 mitted at https://sessionize.com/mct-tech-talks/
DTEND:20261014T045900Z
DTSTAMP:20260423T155035Z
DTSTART:20261014T045900Z
LAST-MODIFIED:20260423T155035Z
LOCATION:https://sessionize.com/mct-tech-talks
SEQUENCE:0
SUMMARY:MCT Tech Talks: deadline to submit a session
UID:bab8756f-3ea1-4d65-a46c-bd8728fde819
BEGIN:VALARM
ACTION:DISPLAY
DESCRIPTION:Reminder
SUMMARY:MCT Tech Talks: deadline to submit a session
TRIGGER:-P2D
END:VALARM
END:VEVENT
END:VCALENDAR
