BEGIN:VCALENDAR
PRODID:-//github.com/ical-org/ical.net//NONSGML ical.net 4.0//EN
VERSION:2.0
BEGIN:VEVENT
CREATED:20260422T185543Z
DESCRIPTION:This is a reminder to submit a session to Meetup | Search\, Da
 ta and AI.\nSet the alarm/notification to ensure you don't miss it!\nSess
 ions can be submitted at https://sessionize.com/meetup-search-data-and-ai
 /
DTEND:20260831T215900Z
DTSTAMP:20260422T185543Z
DTSTART:20260831T215900Z
LAST-MODIFIED:20260422T185543Z
LOCATION:https://sessionize.com/meetup-search-data-and-ai
SEQUENCE:0
SUMMARY:Meetup | Search\, Data and AI: deadline to submit a session
UID:d242bc09-2393-44bb-81d1-696c45ad839c
BEGIN:VALARM
ACTION:DISPLAY
DESCRIPTION:Reminder
SUMMARY:Meetup | Search\, Data and AI: deadline to submit a session
TRIGGER:-P2D
END:VALARM
END:VEVENT
END:VCALENDAR
