BEGIN:VCALENDAR
PRODID:-//github.com/ical-org/ical.net//NONSGML ical.net 4.0//EN
VERSION:2.0
BEGIN:VEVENT
CREATED:20260422T022823Z
DESCRIPTION:This is a reminder to submit a session to Melbourne Docker Use
 r Group.\nSet the alarm/notification to ensure you don't miss it!\nSessio
 ns can be submitted at https://sessionize.com/melbourne-docker-user-group
 /
DTEND:20261030T125900Z
DTSTAMP:20260422T022823Z
DTSTART:20261030T125900Z
LAST-MODIFIED:20260422T022823Z
LOCATION:https://sessionize.com/melbourne-docker-user-group
SEQUENCE:0
SUMMARY:Melbourne Docker User Group: deadline to submit a session
UID:f484009e-4438-4881-98ce-c2106de1c63a
BEGIN:VALARM
ACTION:DISPLAY
DESCRIPTION:Reminder
SUMMARY:Melbourne Docker User Group: deadline to submit a session
TRIGGER:-P2D
END:VALARM
END:VEVENT
END:VCALENDAR
