BEGIN:VCALENDAR
PRODID:-//github.com/ical-org/ical.net//NONSGML ical.net 4.0//EN
VERSION:2.0
BEGIN:VEVENT
CREATED:20260420T204140Z
DESCRIPTION:This is a reminder to submit a session to Memphis Python User 
 Group.\nSet the alarm/notification to ensure you don't miss it!\nSessions
  can be submitted at https://sessionize.com/memphis-python-user-group/
DTEND:20260511T045900Z
DTSTAMP:20260420T204140Z
DTSTART:20260511T045900Z
LAST-MODIFIED:20260420T204140Z
LOCATION:https://sessionize.com/memphis-python-user-group
SEQUENCE:0
SUMMARY:Memphis Python User Group: deadline to submit a session
UID:12f9b57d-506b-4dc4-ad6d-da2b492ab966
BEGIN:VALARM
ACTION:DISPLAY
DESCRIPTION:Reminder
SUMMARY:Memphis Python User Group: deadline to submit a session
TRIGGER:-P2D
END:VALARM
END:VEVENT
END:VCALENDAR
