BEGIN:VCALENDAR
PRODID:-//github.com/ical-org/ical.net//NONSGML ical.net 4.0//EN
VERSION:2.0
BEGIN:VEVENT
CREATED:20260425T124110Z
DESCRIPTION:This is a reminder to submit a session to Michigan Technology 
 Conference 2026.\nSet the alarm/notification to ensure you don't miss it!
 \nSessions can be submitted at https://sessionize.com/mitechcon-2026/
DTEND:20260517T035900Z
DTSTAMP:20260425T124110Z
DTSTART:20260517T035900Z
LAST-MODIFIED:20260425T124110Z
LOCATION:https://sessionize.com/mitechcon-2026
SEQUENCE:0
SUMMARY:Michigan Technology Conference 2026: deadline to submit a session
UID:f1f68b9a-6b55-494d-8f77-ce91552dfc7a
BEGIN:VALARM
ACTION:DISPLAY
DESCRIPTION:Reminder
SUMMARY:Michigan Technology Conference 2026: deadline to submit a session
TRIGGER:-P2D
END:VALARM
END:VEVENT
END:VCALENDAR
