BEGIN:VCALENDAR
PRODID:-//github.com/ical-org/ical.net//NONSGML ical.net 4.0//EN
VERSION:2.0
BEGIN:VEVENT
CREATED:20260420T023148Z
DESCRIPTION:This is a reminder to submit a session to MTG Meetups.\nSet th
 e alarm/notification to ensure you don't miss it!\nSessions can be submit
 ted at https://sessionize.com/mtg/
DTEND:20261231T225900Z
DTSTAMP:20260420T023148Z
DTSTART:20261231T225900Z
LAST-MODIFIED:20260420T023148Z
LOCATION:https://sessionize.com/mtg
SEQUENCE:0
SUMMARY:MTG Meetups: deadline to submit a session
UID:cda4f26e-9921-4f8c-b68b-d997a48b6867
BEGIN:VALARM
ACTION:DISPLAY
DESCRIPTION:Reminder
SUMMARY:MTG Meetups: deadline to submit a session
TRIGGER:-P2D
END:VALARM
END:VEVENT
END:VCALENDAR
