BEGIN:VCALENDAR
PRODID:-//github.com/ical-org/ical.net//NONSGML ical.net 4.0//EN
VERSION:2.0
BEGIN:VEVENT
CREATED:20260420T093524Z
DESCRIPTION:This is a reminder to submit a session to Nashville Power BI U
 ser Group.\nSet the alarm/notification to ensure you don't miss it!\nSess
 ions can be submitted at https://sessionize.com/nashville-power-bi-user-g
 roup/
DTEND:20260622T170000Z
DTSTAMP:20260420T093524Z
DTSTART:20260622T170000Z
LAST-MODIFIED:20260420T093524Z
LOCATION:https://sessionize.com/nashville-power-bi-user-group
SEQUENCE:0
SUMMARY:Nashville Power BI User Group: deadline to submit a session
UID:081a51b6-27ab-492c-8a9d-c016c1c2ef6a
BEGIN:VALARM
ACTION:DISPLAY
DESCRIPTION:Reminder
SUMMARY:Nashville Power BI User Group: deadline to submit a session
TRIGGER:-P2D
END:VALARM
END:VEVENT
END:VCALENDAR
