BEGIN:VCALENDAR
PRODID:-//github.com/ical-org/ical.net//NONSGML ical.net 4.0//EN
VERSION:2.0
BEGIN:VEVENT
CREATED:20260423T142622Z
DESCRIPTION:This is a reminder to submit a session to Nordic Summit 2026.\
 nSet the alarm/notification to ensure you don't miss it!\nSessions can be
  submitted at https://sessionize.com/nordic-summit-2026/
DTEND:20260430T215900Z
DTSTAMP:20260423T142622Z
DTSTART:20260430T215900Z
LAST-MODIFIED:20260423T142622Z
LOCATION:https://sessionize.com/nordic-summit-2026
SEQUENCE:0
SUMMARY:Nordic Summit 2026: deadline to submit a session
UID:26a489f9-c79c-4bd2-9260-983886f44a87
BEGIN:VALARM
ACTION:DISPLAY
DESCRIPTION:Reminder
SUMMARY:Nordic Summit 2026: deadline to submit a session
TRIGGER:-P2D
END:VALARM
END:VEVENT
END:VCALENDAR
