BEGIN:VCALENDAR
PRODID:-//github.com/ical-org/ical.net//NONSGML ical.net 4.0//EN
VERSION:2.0
BEGIN:VEVENT
CREATED:20260421T071501Z
DESCRIPTION:This is a reminder to submit a session to Ohio North Data Trai
 ning User Group 2026.\nSet the alarm/notification to ensure you don't mis
 s it!\nSessions can be submitted at https://sessionize.com/ohio-north-dat
 a-training-user-group-2026/
DTEND:20261018T035900Z
DTSTAMP:20260421T071501Z
DTSTART:20261018T035900Z
LAST-MODIFIED:20260421T071501Z
LOCATION:https://sessionize.com/ohio-north-data-training-user-group-2026
SEQUENCE:0
SUMMARY:Ohio North Data Training User Group 2026: deadline to submit a ses
 sion
UID:c422e7db-161e-4c73-ac76-2683ada8bb8c
BEGIN:VALARM
ACTION:DISPLAY
DESCRIPTION:Reminder
SUMMARY:Ohio North Data Training User Group 2026: deadline to submit a ses
 sion
TRIGGER:-P2D
END:VALARM
END:VEVENT
END:VCALENDAR
