BEGIN:VCALENDAR
PRODID:-//github.com/ical-org/ical.net//NONSGML ical.net 4.0//EN
VERSION:2.0
BEGIN:VEVENT
CREATED:20260424T150746Z
DESCRIPTION:This is a reminder to submit a session to Open Conf 2026 - SPE
 ECHES and WORKSHOPS.\nSet the alarm/notification to ensure you don't miss
  it!\nSessions can be submitted at https://sessionize.com/open-conf-2026/
DTEND:20260426T205900Z
DTSTAMP:20260424T150746Z
DTSTART:20260426T205900Z
LAST-MODIFIED:20260424T150746Z
LOCATION:https://sessionize.com/open-conf-2026
SEQUENCE:0
SUMMARY:Open Conf 2026 - SPEECHES and WORKSHOPS: deadline to submit a sess
 ion
UID:8ae9de30-82e9-48ea-9e58-60c92699cc27
BEGIN:VALARM
ACTION:DISPLAY
DESCRIPTION:Reminder
SUMMARY:Open Conf 2026 - SPEECHES and WORKSHOPS: deadline to submit a sess
 ion
TRIGGER:-P2D
END:VALARM
END:VEVENT
END:VCALENDAR
