BEGIN:VCALENDAR
PRODID:-//github.com/ical-org/ical.net//NONSGML ical.net 4.0//EN
VERSION:2.0
BEGIN:VEVENT
CREATED:20260421T211402Z
DESCRIPTION:This is a reminder to submit a session to Open House 2026 by C
 lickHouse.\nSet the alarm/notification to ensure you don't miss it!\nSess
 ions can be submitted at https://sessionize.com/open-house-2026-by-clickh
 ouse/
DTEND:20260425T065900Z
DTSTAMP:20260421T211402Z
DTSTART:20260425T065900Z
LAST-MODIFIED:20260421T211402Z
LOCATION:https://sessionize.com/open-house-2026-by-clickhouse
SEQUENCE:0
SUMMARY:Open House 2026 by ClickHouse: deadline to submit a session
UID:b2653df0-be3f-44d1-9721-a52d6c1e25e0
BEGIN:VALARM
ACTION:DISPLAY
DESCRIPTION:Reminder
SUMMARY:Open House 2026 by ClickHouse: deadline to submit a session
TRIGGER:-P2D
END:VALARM
END:VEVENT
END:VCALENDAR
