BEGIN:VCALENDAR
PRODID:-//github.com/ical-org/ical.net//NONSGML ical.net 4.0//EN
VERSION:2.0
BEGIN:VEVENT
CREATED:20260422T010355Z
DESCRIPTION:This is a reminder to submit a session to Open Source Days 202
 6.\nSet the alarm/notification to ensure you don't miss it!\nSessions can
  be submitted at https://sessionize.com/open-source-days-2026/
DTEND:20260518T065900Z
DTSTAMP:20260422T010355Z
DTSTART:20260518T065900Z
LAST-MODIFIED:20260422T010355Z
LOCATION:https://sessionize.com/open-source-days-2026
SEQUENCE:0
SUMMARY:Open Source Days 2026: deadline to submit a session
UID:cfcc010f-089f-4f9c-9610-2bb3783c189b
BEGIN:VALARM
ACTION:DISPLAY
DESCRIPTION:Reminder
SUMMARY:Open Source Days 2026: deadline to submit a session
TRIGGER:-P2D
END:VALARM
END:VEVENT
END:VCALENDAR
