BEGIN:VCALENDAR
PRODID:-//github.com/ical-org/ical.net//NONSGML ical.net 4.0//EN
VERSION:2.0
BEGIN:VEVENT
CREATED:20260421T040745Z
DESCRIPTION:This is a reminder to submit a session to OPENSEARCH MILAN USE
 RGROUP MEETUP - 2026.\nSet the alarm/notification to ensure you don't mis
 s it!\nSessions can be submitted at https://sessionize.com/opensearch-mil
 an-rome-usergroup-meetup/
DTEND:20261230T225900Z
DTSTAMP:20260421T040745Z
DTSTART:20261230T225900Z
LAST-MODIFIED:20260421T040745Z
LOCATION:https://sessionize.com/opensearch-milan-rome-usergroup-meetup
SEQUENCE:0
SUMMARY:OPENSEARCH MILAN USERGROUP MEETUP - 2026: deadline to submit a ses
 sion
UID:6b0ee9d4-20e8-4935-aa0a-8599e70bc621
BEGIN:VALARM
ACTION:DISPLAY
DESCRIPTION:Reminder
SUMMARY:OPENSEARCH MILAN USERGROUP MEETUP - 2026: deadline to submit a ses
 sion
TRIGGER:-P2D
END:VALARM
END:VEVENT
END:VCALENDAR
