BEGIN:VCALENDAR
PRODID:-//github.com/ical-org/ical.net//NONSGML ical.net 4.0//EN
VERSION:2.0
BEGIN:VEVENT
CREATED:20260420T082252Z
DESCRIPTION:This is a reminder to submit a session to OpenSearch Paris Mee
 tup.\nSet the alarm/notification to ensure you don't miss it!\nSessions c
 an be submitted at https://sessionize.com/opensearch-paris-meetup/
DTEND:20260630T215900Z
DTSTAMP:20260420T082252Z
DTSTART:20260630T215900Z
LAST-MODIFIED:20260420T082252Z
LOCATION:https://sessionize.com/opensearch-paris-meetup
SEQUENCE:0
SUMMARY:OpenSearch Paris Meetup: deadline to submit a session
UID:6cb8ea30-c914-4b93-8e2f-f89697680b01
BEGIN:VALARM
ACTION:DISPLAY
DESCRIPTION:Reminder
SUMMARY:OpenSearch Paris Meetup: deadline to submit a session
TRIGGER:-P2D
END:VALARM
END:VEVENT
END:VCALENDAR
