BEGIN:VCALENDAR
PRODID:-//github.com/ical-org/ical.net//NONSGML ical.net 4.0//EN
VERSION:2.0
BEGIN:VEVENT
CREATED:20260424T144629Z
DESCRIPTION:This is a reminder to submit a session to OWASP AppSec Days Fr
 ance 2026.\nSet the alarm/notification to ensure you don't miss it!\nSess
 ions can be submitted at https://sessionize.com/owasp-appsec-days-france-
 2026/
DTEND:20260507T215900Z
DTSTAMP:20260424T144629Z
DTSTART:20260507T215900Z
LAST-MODIFIED:20260424T144629Z
LOCATION:https://sessionize.com/owasp-appsec-days-france-2026
SEQUENCE:0
SUMMARY:OWASP AppSec Days France 2026: deadline to submit a session
UID:bb13d1be-47fd-4ff5-8559-a7c4b2a9e044
BEGIN:VALARM
ACTION:DISPLAY
DESCRIPTION:Reminder
SUMMARY:OWASP AppSec Days France 2026: deadline to submit a session
TRIGGER:-P2D
END:VALARM
END:VEVENT
END:VCALENDAR
