BEGIN:VCALENDAR
PRODID:-//github.com/ical-org/ical.net//NONSGML ical.net 4.0//EN
VERSION:2.0
BEGIN:VEVENT
CREATED:20260426T033126Z
DESCRIPTION:This is a reminder to submit a session to OWASP LASCON 2026.\n
 Set the alarm/notification to ensure you don't miss it!\nSessions can be 
 submitted at https://sessionize.com/owasp-lascon-2026/
DTEND:20260609T045900Z
DTSTAMP:20260426T033126Z
DTSTART:20260609T045900Z
LAST-MODIFIED:20260426T033126Z
LOCATION:https://sessionize.com/owasp-lascon-2026
SEQUENCE:0
SUMMARY:OWASP LASCON 2026: deadline to submit a session
UID:b1a7d370-8654-454b-b836-82a4548bae07
BEGIN:VALARM
ACTION:DISPLAY
DESCRIPTION:Reminder
SUMMARY:OWASP LASCON 2026: deadline to submit a session
TRIGGER:-P2D
END:VALARM
END:VEVENT
END:VCALENDAR
