BEGIN:VCALENDAR
PRODID:-//github.com/ical-org/ical.net//NONSGML ical.net 4.0//EN
VERSION:2.0
BEGIN:VEVENT
CREATED:20260424T110245Z
DESCRIPTION:This is a reminder to submit a session to P99 CONF 2026.\nSet 
 the alarm/notification to ensure you don't miss it!\nSessions can be subm
 itted at https://sessionize.com/p99-conf-2026/
DTEND:20260501T065900Z
DTSTAMP:20260424T110245Z
DTSTART:20260501T065900Z
LAST-MODIFIED:20260424T110245Z
LOCATION:https://sessionize.com/p99-conf-2026
SEQUENCE:0
SUMMARY:P99 CONF 2026: deadline to submit a session
UID:05005e4e-2c63-44ef-bfff-c0d05dfdb08a
BEGIN:VALARM
ACTION:DISPLAY
DESCRIPTION:Reminder
SUMMARY:P99 CONF 2026: deadline to submit a session
TRIGGER:-P2D
END:VALARM
END:VEVENT
END:VCALENDAR
