BEGIN:VCALENDAR
PRODID:-//github.com/ical-org/ical.net//NONSGML ical.net 4.0//EN
VERSION:2.0
BEGIN:VEVENT
CREATED:20260422T123930Z
DESCRIPTION:This is a reminder to submit a session to Partner Vibe 2.0.\nS
 et the alarm/notification to ensure you don't miss it!\nSessions can be s
 ubmitted at https://sessionize.com/partner-vibe/
DTEND:20260616T045900Z
DTSTAMP:20260422T123930Z
DTSTART:20260616T045900Z
LAST-MODIFIED:20260422T123930Z
LOCATION:https://sessionize.com/partner-vibe
SEQUENCE:0
SUMMARY:Partner Vibe 2.0: deadline to submit a session
UID:a077a175-87a0-4c6d-9040-089e26217d26
BEGIN:VALARM
ACTION:DISPLAY
DESCRIPTION:Reminder
SUMMARY:Partner Vibe 2.0: deadline to submit a session
TRIGGER:-P2D
END:VALARM
END:VEVENT
END:VCALENDAR
