BEGIN:VCALENDAR
PRODID:-//github.com/ical-org/ical.net//NONSGML ical.net 4.0//EN
VERSION:2.0
BEGIN:VEVENT
CREATED:20260425T111256Z
DESCRIPTION:This is a reminder to submit a session to Power Conference 202
 6.\nSet the alarm/notification to ensure you don't miss it!\nSessions can
  be submitted at https://sessionize.com/power-conference-2026/
DTEND:20260714T215900Z
DTSTAMP:20260425T111256Z
DTSTART:20260714T215900Z
LAST-MODIFIED:20260425T111256Z
LOCATION:https://sessionize.com/power-conference-2026
SEQUENCE:0
SUMMARY:Power Conference 2026: deadline to submit a session
UID:1e4cd797-611a-49f8-8271-34607425cffa
BEGIN:VALARM
ACTION:DISPLAY
DESCRIPTION:Reminder
SUMMARY:Power Conference 2026: deadline to submit a session
TRIGGER:-P2D
END:VALARM
END:VEVENT
END:VCALENDAR
