BEGIN:VCALENDAR
PRODID:-//github.com/ical-org/ical.net//NONSGML ical.net 4.0//EN
VERSION:2.0
BEGIN:VEVENT
CREATED:20260420T093422Z
DESCRIPTION:This is a reminder to submit a session to PowerUp! Meetup (Fin
 land).\nSet the alarm/notification to ensure you don't miss it!\nSessions
  can be submitted at https://sessionize.com/powerup-meetup-finland/
DTEND:20261231T215900Z
DTSTAMP:20260420T093422Z
DTSTART:20261231T215900Z
LAST-MODIFIED:20260420T093422Z
LOCATION:https://sessionize.com/powerup-meetup-finland
SEQUENCE:0
SUMMARY:PowerUp! Meetup (Finland): deadline to submit a session
UID:29e05b65-d2f6-450f-853c-5810f276a402
BEGIN:VALARM
ACTION:DISPLAY
DESCRIPTION:Reminder
SUMMARY:PowerUp! Meetup (Finland): deadline to submit a session
TRIGGER:-P2D
END:VALARM
END:VEVENT
END:VCALENDAR
