BEGIN:VCALENDAR
PRODID:-//github.com/ical-org/ical.net//NONSGML ical.net 4.0//EN
VERSION:2.0
BEGIN:VEVENT
CREATED:20260422T143607Z
DESCRIPTION:This is a reminder to submit a session to Porto Tech Hub Confe
 rence 2026.\nSet the alarm/notification to ensure you don't miss it!\nSes
 sions can be submitted at https://sessionize.com/pth-2026/
DTEND:20260614T225900Z
DTSTAMP:20260422T143607Z
DTSTART:20260614T225900Z
LAST-MODIFIED:20260422T143607Z
LOCATION:https://sessionize.com/pth-2026
SEQUENCE:0
SUMMARY:Porto Tech Hub Conference 2026: deadline to submit a session
UID:149652c6-a731-4d74-82a7-c4424e2fe12a
BEGIN:VALARM
ACTION:DISPLAY
DESCRIPTION:Reminder
SUMMARY:Porto Tech Hub Conference 2026: deadline to submit a session
TRIGGER:-P2D
END:VALARM
END:VEVENT
END:VCALENDAR
