BEGIN:VCALENDAR
PRODID:-//github.com/ical-org/ical.net//NONSGML ical.net 4.0//EN
VERSION:2.0
BEGIN:VEVENT
CREATED:20260421T075649Z
DESCRIPTION:This is a reminder to submit a session to PyData Venice.\nSet 
 the alarm/notification to ensure you don't miss it!\nSessions can be subm
 itted at https://sessionize.com/pydata-venice/
DTEND:20261130T225900Z
DTSTAMP:20260421T075649Z
DTSTART:20261130T225900Z
LAST-MODIFIED:20260421T075649Z
LOCATION:https://sessionize.com/pydata-venice
SEQUENCE:0
SUMMARY:PyData Venice: deadline to submit a session
UID:61fed1f3-0d0a-45ed-a49f-f0b4187a464a
BEGIN:VALARM
ACTION:DISPLAY
DESCRIPTION:Reminder
SUMMARY:PyData Venice: deadline to submit a session
TRIGGER:-P2D
END:VALARM
END:VEVENT
END:VCALENDAR
