BEGIN:VCALENDAR
PRODID:-//github.com/ical-org/ical.net//NONSGML ical.net 4.0//EN
VERSION:2.0
BEGIN:VEVENT
CREATED:20260420T025233Z
DESCRIPTION:This is a reminder to submit a session to Pyowa.\nSet the alar
 m/notification to ensure you don't miss it!\nSessions can be submitted at
  https://sessionize.com/pyowa/
DTEND:20261202T055900Z
DTSTAMP:20260420T025233Z
DTSTART:20261202T055900Z
LAST-MODIFIED:20260420T025233Z
LOCATION:https://sessionize.com/pyowa
SEQUENCE:0
SUMMARY:Pyowa: deadline to submit a session
UID:098f6eaa-82b0-46fa-8355-99b9869db488
BEGIN:VALARM
ACTION:DISPLAY
DESCRIPTION:Reminder
SUMMARY:Pyowa: deadline to submit a session
TRIGGER:-P2D
END:VALARM
END:VEVENT
END:VCALENDAR
