BEGIN:VCALENDAR
PRODID:-//github.com/ical-org/ical.net//NONSGML ical.net 4.0//EN
VERSION:2.0
BEGIN:VEVENT
CREATED:20260420T164053Z
DESCRIPTION:This is a reminder to submit a session to PyTorch Conference N
 orth America 2026.\nSet the alarm/notification to ensure you don't miss i
 t!\nSessions can be submitted at https://sessionize.com/pytorch-conferenc
 e-north-america-2026/
DTEND:20260608T065900Z
DTSTAMP:20260420T164053Z
DTSTART:20260608T065900Z
LAST-MODIFIED:20260420T164053Z
LOCATION:https://sessionize.com/pytorch-conference-north-america-2026
SEQUENCE:0
SUMMARY:PyTorch Conference North America 2026: deadline to submit a session
UID:552a30db-184e-4a5b-8048-f547312d6305
BEGIN:VALARM
ACTION:DISPLAY
DESCRIPTION:Reminder
SUMMARY:PyTorch Conference North America 2026: deadline to submit a session
TRIGGER:-P2D
END:VALARM
END:VEVENT
END:VCALENDAR
