BEGIN:VCALENDAR
PRODID:-//github.com/ical-org/ical.net//NONSGML ical.net 4.0//EN
VERSION:2.0
BEGIN:VEVENT
CREATED:20260420T182229Z
DESCRIPTION:This is a reminder to submit a session to PyTorch Conference N
 orth America 2026 - POSTER SESSIONS.\nSet the alarm/notification to ensur
 e you don't miss it!\nSessions can be submitted at https://sessionize.com
 /pytorch-conference-north-america-2026-posters/
DTEND:20260727T065900Z
DTSTAMP:20260420T182229Z
DTSTART:20260727T065900Z
LAST-MODIFIED:20260420T182229Z
LOCATION:https://sessionize.com/pytorch-conference-north-america-2026-post
 ers
SEQUENCE:0
SUMMARY:PyTorch Conference North America 2026 - POSTER SESSIONS: deadline 
 to submit a session
UID:20ea7781-41c6-494a-b42a-43f99ec9ee52
BEGIN:VALARM
ACTION:DISPLAY
DESCRIPTION:Reminder
SUMMARY:PyTorch Conference North America 2026 - POSTER SESSIONS: deadline 
 to submit a session
TRIGGER:-P2D
END:VALARM
END:VEVENT
END:VCALENDAR
