BEGIN:VCALENDAR
PRODID:-//github.com/ical-org/ical.net//NONSGML ical.net 4.0//EN
VERSION:2.0
BEGIN:VEVENT
CREATED:20260423T200015Z
DESCRIPTION:This is a reminder to submit a session to Rails World 2026.\nS
 et the alarm/notification to ensure you don't miss it!\nSessions can be s
 ubmitted at https://sessionize.com/rails-world-2026/
DTEND:20260517T045900Z
DTSTAMP:20260423T200015Z
DTSTART:20260517T045900Z
LAST-MODIFIED:20260423T200015Z
LOCATION:https://sessionize.com/rails-world-2026
SEQUENCE:0
SUMMARY:Rails World 2026: deadline to submit a session
UID:3822171f-52e5-419c-b8b1-18fab73cda94
BEGIN:VALARM
ACTION:DISPLAY
DESCRIPTION:Reminder
SUMMARY:Rails World 2026: deadline to submit a session
TRIGGER:-P2D
END:VALARM
END:VEVENT
END:VCALENDAR
