BEGIN:VCALENDAR
PRODID:-//github.com/ical-org/ical.net//NONSGML ical.net 4.0//EN
VERSION:2.0
BEGIN:VEVENT
CREATED:20260422T145504Z
DESCRIPTION:This is a reminder to submit a session to Richmond SQL Server 
 Users Group.\nSet the alarm/notification to ensure you don't miss it!\nSe
 ssions can be submitted at https://sessionize.com/richmond-sql-server-use
 rs-group/
DTEND:20260601T035900Z
DTSTAMP:20260422T145504Z
DTSTART:20260601T035900Z
LAST-MODIFIED:20260422T145504Z
LOCATION:https://sessionize.com/richmond-sql-server-users-group
SEQUENCE:0
SUMMARY:Richmond SQL Server Users Group: deadline to submit a session
UID:96d40d60-d68a-41d3-ad17-05f8ce117e26
BEGIN:VALARM
ACTION:DISPLAY
DESCRIPTION:Reminder
SUMMARY:Richmond SQL Server Users Group: deadline to submit a session
TRIGGER:-P2D
END:VALARM
END:VEVENT
END:VCALENDAR
