BEGIN:VCALENDAR
PRODID:-//github.com/ical-org/ical.net//NONSGML ical.net 4.0//EN
VERSION:2.0
BEGIN:VEVENT
CREATED:20260422T165117Z
DESCRIPTION:This is a reminder to submit a session to SecTalks.\nSet the a
 larm/notification to ensure you don't miss it!\nSessions can be submitted
  at https://sessionize.com/sectalks/
DTEND:20261231T125900Z
DTSTAMP:20260422T165117Z
DTSTART:20261231T125900Z
LAST-MODIFIED:20260422T165117Z
LOCATION:https://sessionize.com/sectalks
SEQUENCE:0
SUMMARY:SecTalks: deadline to submit a session
UID:01d8c58e-388d-4ab8-bd2a-c15c2b2f2b58
BEGIN:VALARM
ACTION:DISPLAY
DESCRIPTION:Reminder
SUMMARY:SecTalks: deadline to submit a session
TRIGGER:-P2D
END:VALARM
END:VEVENT
END:VCALENDAR
