BEGIN:VCALENDAR
PRODID:-//github.com/ical-org/ical.net//NONSGML ical.net 4.0//EN
VERSION:2.0
BEGIN:VEVENT
CREATED:20260422T232229Z
DESCRIPTION:This is a reminder to submit a session to SecurityNativeEurope
 .\nSet the alarm/notification to ensure you don't miss it!\nSessions can 
 be submitted at https://sessionize.com/securitynativeeurope/
DTEND:20261231T225900Z
DTSTAMP:20260422T232229Z
DTSTART:20261231T225900Z
LAST-MODIFIED:20260422T232229Z
LOCATION:https://sessionize.com/securitynativeeurope
SEQUENCE:0
SUMMARY:SecurityNativeEurope: deadline to submit a session
UID:95f8940c-e1f6-4b8f-9fb4-7891330cd150
BEGIN:VALARM
ACTION:DISPLAY
DESCRIPTION:Reminder
SUMMARY:SecurityNativeEurope: deadline to submit a session
TRIGGER:-P2D
END:VALARM
END:VEVENT
END:VCALENDAR
