BEGIN:VCALENDAR
PRODID:-//github.com/ical-org/ical.net//NONSGML ical.net 4.0//EN
VERSION:2.0
BEGIN:VEVENT
CREATED:20260423T114830Z
DESCRIPTION:This is a reminder to submit a session to SGF Dev Night.\nSet 
 the alarm/notification to ensure you don't miss it!\nSessions can be subm
 itted at https://sessionize.com/sgf-dev-night/
DTEND:20261004T045900Z
DTSTAMP:20260423T114830Z
DTSTART:20261004T045900Z
LAST-MODIFIED:20260423T114830Z
LOCATION:https://sessionize.com/sgf-dev-night
SEQUENCE:0
SUMMARY:SGF Dev Night: deadline to submit a session
UID:6492aee8-45cd-40e8-bb2a-aec55f466c82
BEGIN:VALARM
ACTION:DISPLAY
DESCRIPTION:Reminder
SUMMARY:SGF Dev Night: deadline to submit a session
TRIGGER:-P2D
END:VALARM
END:VEVENT
END:VCALENDAR
