BEGIN:VCALENDAR
PRODID:-//github.com/ical-org/ical.net//NONSGML ical.net 4.0//EN
VERSION:2.0
BEGIN:VEVENT
CREATED:20260424T143632Z
DESCRIPTION:This is a reminder to submit a session to Simply Cyber Con 202
 6.\nSet the alarm/notification to ensure you don't miss it!\nSessions can
  be submitted at https://sessionize.com/simply-cyber-con-2026/
DTEND:20260801T035900Z
DTSTAMP:20260424T143632Z
DTSTART:20260801T035900Z
LAST-MODIFIED:20260424T143632Z
LOCATION:https://sessionize.com/simply-cyber-con-2026
SEQUENCE:0
SUMMARY:Simply Cyber Con 2026: deadline to submit a session
UID:2e71cab9-a7ff-47d9-8c06-f4a7dcb179eb
BEGIN:VALARM
ACTION:DISPLAY
DESCRIPTION:Reminder
SUMMARY:Simply Cyber Con 2026: deadline to submit a session
TRIGGER:-P2D
END:VALARM
END:VEVENT
END:VCALENDAR
