BEGIN:VCALENDAR
PRODID:-//github.com/ical-org/ical.net//NONSGML ical.net 4.0//EN
VERSION:2.0
BEGIN:VEVENT
CREATED:20260425T130657Z
DESCRIPTION:This is a reminder to submit a session to SOUG Day Zurich 2026
 .\nSet the alarm/notification to ensure you don't miss it!\nSessions can 
 be submitted at https://sessionize.com/soug-day-zurich-2026/
DTEND:20260717T215900Z
DTSTAMP:20260425T130657Z
DTSTART:20260717T215900Z
LAST-MODIFIED:20260425T130657Z
LOCATION:https://sessionize.com/soug-day-zurich-2026
SEQUENCE:0
SUMMARY:SOUG Day Zurich 2026: deadline to submit a session
UID:43a67dc6-8565-4edb-8612-057f270c0d1c
BEGIN:VALARM
ACTION:DISPLAY
DESCRIPTION:Reminder
SUMMARY:SOUG Day Zurich 2026: deadline to submit a session
TRIGGER:-P2D
END:VALARM
END:VEVENT
END:VCALENDAR
