BEGIN:VCALENDAR
PRODID:-//github.com/ical-org/ical.net//NONSGML ical.net 4.0//EN
VERSION:2.0
BEGIN:VEVENT
CREATED:20260421T070653Z
DESCRIPTION:This is a reminder to submit a session to Boston Data and AI S
 aturday 2026.\nSet the alarm/notification to ensure you don't miss it!\nS
 essions can be submitted at https://sessionize.com/sql-saturday-boston-20
 26/
DTEND:20260601T035900Z
DTSTAMP:20260421T070653Z
DTSTART:20260601T035900Z
LAST-MODIFIED:20260421T070653Z
LOCATION:https://sessionize.com/sql-saturday-boston-2026
SEQUENCE:0
SUMMARY:Boston Data and AI Saturday 2026: deadline to submit a session
UID:2a91dcf8-424b-4861-b54e-aeef633ea2f5
BEGIN:VALARM
ACTION:DISPLAY
DESCRIPTION:Reminder
SUMMARY:Boston Data and AI Saturday 2026: deadline to submit a session
TRIGGER:-P2D
END:VALARM
END:VEVENT
END:VCALENDAR
