BEGIN:VCALENDAR
PRODID:-//github.com/ical-org/ical.net//NONSGML ical.net 4.0//EN
VERSION:2.0
BEGIN:VEVENT
CREATED:20260421T071332Z
DESCRIPTION:This is a reminder to submit a session to SQL Server User Grou
 p Croatia 26.\nSet the alarm/notification to ensure you don't miss it!\nS
 essions can be submitted at https://sessionize.com/sql-server-user-group-
 croatia-26/
DTEND:20260912T215900Z
DTSTAMP:20260421T071332Z
DTSTART:20260912T215900Z
LAST-MODIFIED:20260421T071332Z
LOCATION:https://sessionize.com/sql-server-user-group-croatia-26
SEQUENCE:0
SUMMARY:SQL Server User Group Croatia 26: deadline to submit a session
UID:25e4c0d8-d618-4c2c-91e0-b7667518f93f
BEGIN:VALARM
ACTION:DISPLAY
DESCRIPTION:Reminder
SUMMARY:SQL Server User Group Croatia 26: deadline to submit a session
TRIGGER:-P2D
END:VALARM
END:VEVENT
END:VCALENDAR
