BEGIN:VCALENDAR
PRODID:-//github.com/ical-org/ical.net//NONSGML ical.net 4.0//EN
VERSION:2.0
BEGIN:VEVENT
CREATED:20260422T123440Z
DESCRIPTION:This is a reminder to submit a session to Summit NA Roadshow -
  Cleveland\, OH.\nSet the alarm/notification to ensure you don't miss it!
 \nSessions can be submitted at https://sessionize.com/summit-na-roadshow-
 cleveland/
DTEND:20260612T035900Z
DTSTAMP:20260422T123440Z
DTSTART:20260612T035900Z
LAST-MODIFIED:20260422T123440Z
LOCATION:https://sessionize.com/summit-na-roadshow-cleveland
SEQUENCE:0
SUMMARY:Summit NA Roadshow - Cleveland\, OH: deadline to submit a session
UID:9627f8cd-d59b-4c32-a893-30f46928fd72
BEGIN:VALARM
ACTION:DISPLAY
DESCRIPTION:Reminder
SUMMARY:Summit NA Roadshow - Cleveland\, OH: deadline to submit a session
TRIGGER:-P2D
END:VALARM
END:VEVENT
END:VCALENDAR
