BEGIN:VCALENDAR
PRODID:-//github.com/ical-org/ical.net//NONSGML ical.net 4.0//EN
VERSION:2.0
BEGIN:VEVENT
CREATED:20260422T191520Z
DESCRIPTION:This is a reminder to submit a session to Summit NA Roadshow -
  Denver\, CO.\nSet the alarm/notification to ensure you don't miss it!\nS
 essions can be submitted at https://sessionize.com/summit-na-roadshow-den
 ver-2026/
DTEND:20261104T065900Z
DTSTAMP:20260422T191520Z
DTSTART:20261104T065900Z
LAST-MODIFIED:20260422T191520Z
LOCATION:https://sessionize.com/summit-na-roadshow-denver-2026
SEQUENCE:0
SUMMARY:Summit NA Roadshow - Denver\, CO: deadline to submit a session
UID:e5c6ce9d-a395-4782-8758-f9d0d0b4f4ed
BEGIN:VALARM
ACTION:DISPLAY
DESCRIPTION:Reminder
SUMMARY:Summit NA Roadshow - Denver\, CO: deadline to submit a session
TRIGGER:-P2D
END:VALARM
END:VEVENT
END:VCALENDAR
