BEGIN:VCALENDAR
PRODID:-//github.com/ical-org/ical.net//NONSGML ical.net 4.0//EN
VERSION:2.0
BEGIN:VEVENT
CREATED:20260424T172016Z
DESCRIPTION:This is a reminder to submit a session to Summit NA Roadshow -
  Ft. Lauderdale.\nSet the alarm/notification to ensure you don't miss it!
 \nSessions can be submitted at https://sessionize.com/summit-na-roadshow-
 ft-lauderdale-2026/
DTEND:20261125T045900Z
DTSTAMP:20260424T172016Z
DTSTART:20261125T045900Z
LAST-MODIFIED:20260424T172016Z
LOCATION:https://sessionize.com/summit-na-roadshow-ft-lauderdale-2026
SEQUENCE:0
SUMMARY:Summit NA Roadshow - Ft. Lauderdale: deadline to submit a session
UID:2d3b0107-be0d-435a-9973-0adfed267ada
BEGIN:VALARM
ACTION:DISPLAY
DESCRIPTION:Reminder
SUMMARY:Summit NA Roadshow - Ft. Lauderdale: deadline to submit a session
TRIGGER:-P2D
END:VALARM
END:VEVENT
END:VCALENDAR
