BEGIN:VCALENDAR
PRODID:-//github.com/ical-org/ical.net//NONSGML ical.net 4.0//EN
VERSION:2.0
BEGIN:VEVENT
CREATED:20260424T170856Z
DESCRIPTION:This is a reminder to submit a session to Summit NA Roadshow -
  Toronto (August).\nSet the alarm/notification to ensure you don't miss i
 t!\nSessions can be submitted at https://sessionize.com/summit-na-roadsho
 w-toronto-august/
DTEND:20260722T035900Z
DTSTAMP:20260424T170856Z
DTSTART:20260722T035900Z
LAST-MODIFIED:20260424T170856Z
LOCATION:https://sessionize.com/summit-na-roadshow-toronto-august
SEQUENCE:0
SUMMARY:Summit NA Roadshow - Toronto (August): deadline to submit a session
UID:f453cf13-389b-4bac-93c1-7a69fe180bc8
BEGIN:VALARM
ACTION:DISPLAY
DESCRIPTION:Reminder
SUMMARY:Summit NA Roadshow - Toronto (August): deadline to submit a session
TRIGGER:-P2D
END:VALARM
END:VEVENT
END:VCALENDAR
