BEGIN:VCALENDAR
PRODID:-//github.com/ical-org/ical.net//NONSGML ical.net 4.0//EN
VERSION:2.0
BEGIN:VEVENT
CREATED:20260422T153342Z
DESCRIPTION:This is a reminder to submit a session to SwiftLeeds & KotlinL
 eeds - iOS and Android Conference in Leeds!.\nSet the alarm/notification 
 to ensure you don't miss it!\nSessions can be submitted at https://sessio
 nize.com/swiftleeds-kotlinleeds-conference-in-leeds/
DTEND:20260430T225900Z
DTSTAMP:20260422T153342Z
DTSTART:20260430T225900Z
LAST-MODIFIED:20260422T153342Z
LOCATION:https://sessionize.com/swiftleeds-kotlinleeds-conference-in-leeds
SEQUENCE:0
SUMMARY:SwiftLeeds & KotlinLeeds - iOS and Android Conference in Leeds!: d
 eadline to submit a session
UID:e173448a-a8c4-4c99-819b-cb00083a333a
BEGIN:VALARM
ACTION:DISPLAY
DESCRIPTION:Reminder
SUMMARY:SwiftLeeds & KotlinLeeds - iOS and Android Conference in Leeds!: d
 eadline to submit a session
TRIGGER:-P2D
END:VALARM
END:VEVENT
END:VCALENDAR
