BEGIN:VCALENDAR
PRODID:-//github.com/ical-org/ical.net//NONSGML ical.net 4.0//EN
VERSION:2.0
BEGIN:VEVENT
CREATED:20260420T031642Z
DESCRIPTION:This is a reminder to submit a session to Techorama 2026 Nethe
 rlands  .\nSet the alarm/notification to ensure you don't miss it!\nSessi
 ons can be submitted at https://sessionize.com/techorama-2026-netherlands
 /
DTEND:20260529T170000Z
DTSTAMP:20260420T031642Z
DTSTART:20260529T170000Z
LAST-MODIFIED:20260420T031642Z
LOCATION:https://sessionize.com/techorama-2026-netherlands
SEQUENCE:0
SUMMARY:Techorama 2026 Netherlands  : deadline to submit a session
UID:2576892e-88d8-4286-9e71-2ae3e4992ab4
BEGIN:VALARM
ACTION:DISPLAY
DESCRIPTION:Reminder
SUMMARY:Techorama 2026 Netherlands  : deadline to submit a session
TRIGGER:-P2D
END:VALARM
END:VEVENT
END:VCALENDAR
